BEGIN:VCALENDAR
VERSION:2.0
PRODID:-//Parkinson&#039;s Association of Alberta - ECPv6.11.0.1//NONSGML v1.0//EN
CALSCALE:GREGORIAN
METHOD:PUBLISH
X-WR-CALNAME:Parkinson&#039;s Association of Alberta
X-ORIGINAL-URL:https://parkinsonassociation.ca
X-WR-CALDESC:Events for Parkinson&#039;s Association of Alberta
REFRESH-INTERVAL;VALUE=DURATION:PT1H
X-Robots-Tag:noindex
X-PUBLISHED-TTL:PT1H
BEGIN:VTIMEZONE
TZID:America/Edmonton
BEGIN:DAYLIGHT
TZOFFSETFROM:-0700
TZOFFSETTO:-0600
TZNAME:MDT
DTSTART:20210314T090000
END:DAYLIGHT
BEGIN:STANDARD
TZOFFSETFROM:-0600
TZOFFSETTO:-0700
TZNAME:MST
DTSTART:20211107T080000
END:STANDARD
END:VTIMEZONE
BEGIN:VEVENT
DTSTART;TZID=America/Edmonton:20210419T100000
DTEND;TZID=America/Edmonton:20210419T103000
DTSTAMP:20260425T074444
CREATED:20250306T225556Z
LAST-MODIFIED:20250306T225556Z
UID:16702-1618826400-1618828200@parkinsonassociation.ca
SUMMARY:Care Partner Cardio Class
DESCRIPTION:Join the Founder and Creative Director of StrongerU Senior Fitness\, for a 30-minute StrongerU Cardio class exclusively hosted on Zoom. This class can be done seated or standing and requires no equipment. Engage your heart\, lungs\, and brain through aerobic movement combinations set to music.\nMeeting ID: 890 6909 5588\nPassword: 341579
URL:https://parkinsonassociation.ca/event/care-partner-cardio-class/
END:VEVENT
END:VCALENDAR