BEGIN:VCALENDAR
VERSION:2.0
PRODID:-//Parkinson&#039;s Association of Alberta - ECPv6.11.0.1//NONSGML v1.0//EN
CALSCALE:GREGORIAN
METHOD:PUBLISH
X-WR-CALNAME:Parkinson&#039;s Association of Alberta
X-ORIGINAL-URL:https://parkinsonassociation.ca
X-WR-CALDESC:Events for Parkinson&#039;s Association of Alberta
REFRESH-INTERVAL;VALUE=DURATION:PT1H
X-Robots-Tag:noindex
X-PUBLISHED-TTL:PT1H
BEGIN:VTIMEZONE
TZID:America/Edmonton
BEGIN:DAYLIGHT
TZOFFSETFROM:-0700
TZOFFSETTO:-0600
TZNAME:MDT
DTSTART:20240310T090000
END:DAYLIGHT
BEGIN:STANDARD
TZOFFSETFROM:-0600
TZOFFSETTO:-0700
TZNAME:MST
DTSTART:20241103T080000
END:STANDARD
END:VTIMEZONE
BEGIN:VEVENT
DTSTART;TZID=America/Edmonton:20240418T000000
DTEND;TZID=America/Edmonton:20240419T000000
DTSTAMP:20260421T091118
CREATED:20250306T224459Z
LAST-MODIFIED:20250306T224459Z
UID:16645-1713398400-1713484800@parkinsonassociation.ca
SUMMARY:Edmonton – Grand Villa Casino
DESCRIPTION:
URL:https://parkinsonassociation.ca/event/edmonton-grand-villa-casino/
LOCATION:10204 104 Ave NW\, Edmonton AB T5J 0H6\, Grand Villa Casino
ATTACH;FMTTYPE=image/png:https://parkinsonassociation.ca/wp-content/uploads/2025/03/1740200977-voqkq1ptzeojn345iuvt-qv725S.tmp_.png
END:VEVENT
END:VCALENDAR