BEGIN:VCALENDAR
VERSION:2.0
PRODID:-//Parkinson&#039;s Association of Alberta - ECPv6.11.0.1//NONSGML v1.0//EN
CALSCALE:GREGORIAN
METHOD:PUBLISH
X-WR-CALNAME:Parkinson&#039;s Association of Alberta
X-ORIGINAL-URL:https://parkinsonassociation.ca
X-WR-CALDESC:Events for Parkinson&#039;s Association of Alberta
REFRESH-INTERVAL;VALUE=DURATION:PT1H
X-Robots-Tag:noindex
X-PUBLISHED-TTL:PT1H
BEGIN:VTIMEZONE
TZID:America/Edmonton
BEGIN:DAYLIGHT
TZOFFSETFROM:-0700
TZOFFSETTO:-0600
TZNAME:MDT
DTSTART:20240310T090000
END:DAYLIGHT
BEGIN:STANDARD
TZOFFSETFROM:-0600
TZOFFSETTO:-0700
TZNAME:MST
DTSTART:20241103T080000
END:STANDARD
END:VTIMEZONE
BEGIN:VEVENT
DTSTART;TZID=America/Edmonton:20240430T164500
DTEND;TZID=America/Edmonton:20240430T190000
DTSTAMP:20260423T042643
CREATED:20250306T224158Z
LAST-MODIFIED:20250306T224158Z
UID:16627-1714495500-1714503600@parkinsonassociation.ca
SUMMARY:Moving Day for Parkinson’s
DESCRIPTION:Yellowhead West Pickleball Club teams up with Selkirk Sports to present Moving Day for Parkinson’s\, in support of Parkinson’s Association of Alberta!  Join us Tuesday\, April 30th from 4:30 pm to 7:00 pm at the Stony Plain Pavilion for some Pickleball and share in an evening of raising awareness and dollars all in support of those living with Parkinson’s.  Learn more about the Parkinson’s Pickleball Project and more!
URL:https://parkinsonassociation.ca/event/moving-day-for-parkinsons/
LOCATION:Stony Plain\, Stony Plain Heritage Park Pavilion
ATTACH;FMTTYPE=image/png:https://parkinsonassociation.ca/wp-content/uploads/2025/03/1740200262-d76llr7qjtudstp7u7ol-LTjCPP.tmp_.png
END:VEVENT
END:VCALENDAR