BEGIN:VCALENDAR
VERSION:2.0
PRODID:-//Parkinson&#039;s Association of Alberta - ECPv6.11.0.1//NONSGML v1.0//EN
CALSCALE:GREGORIAN
METHOD:PUBLISH
X-WR-CALNAME:Parkinson&#039;s Association of Alberta
X-ORIGINAL-URL:https://parkinsonassociation.ca
X-WR-CALDESC:Events for Parkinson&#039;s Association of Alberta
REFRESH-INTERVAL;VALUE=DURATION:PT1H
X-Robots-Tag:noindex
X-PUBLISHED-TTL:PT1H
BEGIN:VTIMEZONE
TZID:America/Edmonton
BEGIN:DAYLIGHT
TZOFFSETFROM:-0700
TZOFFSETTO:-0600
TZNAME:MDT
DTSTART:20230312T090000
END:DAYLIGHT
BEGIN:STANDARD
TZOFFSETFROM:-0600
TZOFFSETTO:-0700
TZNAME:MST
DTSTART:20231105T080000
END:STANDARD
BEGIN:DAYLIGHT
TZOFFSETFROM:-0700
TZOFFSETTO:-0600
TZNAME:MDT
DTSTART:20240310T090000
END:DAYLIGHT
BEGIN:STANDARD
TZOFFSETFROM:-0600
TZOFFSETTO:-0700
TZNAME:MST
DTSTART:20241103T080000
END:STANDARD
END:VTIMEZONE
BEGIN:VEVENT
DTSTART;TZID=America/Edmonton:20240907T090000
DTEND;TZID=America/Edmonton:20240907T130000
DTSTAMP:20260423T024939
CREATED:20250306T224056Z
LAST-MODIFIED:20250306T224056Z
UID:10000027-1725699600-1725714000@parkinsonassociation.ca
SUMMARY:Step ‘n Stride Lethbridge
DESCRIPTION:Step ‘n Stride is our annual walk for Parkinson’s\, helping to raise much-needed funds and bring awareness for Parkinson’s Disease and Parkinson’s Plus Syndromes. Come join us on September 7th at Henderson Lake Park\, Kiwanis Picnic Shelter for our fun-filled\, inclusive\, family-friendly events! Share support\, laughter\, fresh air\, great food\, and entertainment while being part of the Parkinson’s community.\nRegister and find out more information at Step n Stride 2024 – Parkinson Association of Alberta – Step n Stride 2024 (akaraisin.com)
URL:https://parkinsonassociation.ca/event/step-n-stride-lethbridge/
CATEGORIES:Parkinson Step 'n Stride
ATTACH;FMTTYPE=image/png:https://parkinsonassociation.ca/wp-content/uploads/2025/03/1740200140-8jnk2jblv2cr93ljc75c-PTKKt7.tmp_.png
END:VEVENT
BEGIN:VEVENT
DTSTART;TZID=America/Edmonton:20240725T160000
DTEND;TZID=America/Edmonton:20240725T180000
DTSTAMP:20260423T024939
CREATED:20250306T223757Z
LAST-MODIFIED:20250306T223757Z
UID:10000013-1721923200-1721930400@parkinsonassociation.ca
SUMMARY:Kick-Off Lloydminster
DESCRIPTION:Kick start the summer at our Kick-off BBQ’s! Summer is the perfect time to have some fun and relax with our Parkinson’s community. Come out and enjoy food\, beverages\, and great conversations!\nOur kick-off events are hosted in our Step ‘n Stride locations to get you registered for Step ‘n Stride 2024! Join us for our Kick-off at Bud Miller Park\, Picnic Shelter!\nRegistration is required in advance\, please call us at 1-800-561-1911 or email clientservices@parkinsonassociation.ca. Please indicate the names of everyone attending!
URL:https://parkinsonassociation.ca/event/kick-off-lloydminster/
CATEGORIES:Parkinson Step 'n Stride
END:VEVENT
BEGIN:VEVENT
DTSTART;TZID=America/Edmonton:20240724T160000
DTEND;TZID=America/Edmonton:20240724T180000
DTSTAMP:20260423T024939
CREATED:20250306T223856Z
LAST-MODIFIED:20250306T223856Z
UID:10000018-1721836800-1721844000@parkinsonassociation.ca
SUMMARY:Kick-off Red Deer
DESCRIPTION:Kick start the summer at our Kick-off BBQ’s! Summer is the perfect time to have some fun and relax with our Parkinson’s community. Come out and enjoy food\, beverages\, and great conversations!\nOur kick-off events are hosted in our Step ‘n Stride locations to get you registered for Step ‘n Stride 2024! Join us for our Kick-off at Canada 150 Park!\nRegistration is required in advance\, please call us at 1-800-561-1911 or email clientservices@parkinsonassociation.ca. Please indicate the names of everyone attending!
URL:https://parkinsonassociation.ca/event/kick-off-red-deer/
LOCATION:Canada 150 Square\, Red Deer\, Canada 150 Square
CATEGORIES:Parkinson Step 'n Stride
END:VEVENT
BEGIN:VEVENT
DTSTART;TZID=America/Edmonton:20240719T160000
DTEND;TZID=America/Edmonton:20240719T180000
DTSTAMP:20260423T024939
CREATED:20250306T223757Z
LAST-MODIFIED:20250306T223757Z
UID:10000014-1721404800-1721412000@parkinsonassociation.ca
SUMMARY:Kick-off Calgary
DESCRIPTION:
URL:https://parkinsonassociation.ca/event/kick-off-calgary/
CATEGORIES:Parkinson Step 'n Stride
END:VEVENT
BEGIN:VEVENT
DTSTART;TZID=America/Edmonton:20240719T110000
DTEND;TZID=America/Edmonton:20240719T130000
DTSTAMP:20260423T024939
CREATED:20250306T223757Z
LAST-MODIFIED:20250306T223757Z
UID:10000015-1721386800-1721394000@parkinsonassociation.ca
SUMMARY:Kick-off Cochrane
DESCRIPTION:Kick start the summer at our Kick-off BBQ’s! Summer is the perfect time to have some fun and relax with our Parkinson’s community. Come out and enjoy food\, beverages\, and great conversations!\nOur kick-off events are hosted in our Step ‘n Stride locations to get you registered for Step ‘n Stride 2024! Join us for our Kick-off at Cochrane Lions Club!\nRegistration is required in advance\, please call us at 1-800-561-1911 or email clientservices@parkinsonassociation.ca. Please indicate the names of everyone attending!
URL:https://parkinsonassociation.ca/event/kick-off-cochrane/
CATEGORIES:Parkinson Step 'n Stride
END:VEVENT
BEGIN:VEVENT
DTSTART;TZID=America/Edmonton:20240718T150000
DTEND;TZID=America/Edmonton:20240718T170000
DTSTAMP:20260423T024939
CREATED:20250306T223855Z
LAST-MODIFIED:20250306T223855Z
UID:10000016-1721314800-1721322000@parkinsonassociation.ca
SUMMARY:Kick-off Lethbridge
DESCRIPTION:Kick start the summer at our Kick-off BBQ’s! Summer is the perfect time to have some fun and relax with our Parkinson’s community. Come out and enjoy food\, beverages\, and great conversations!\nOur kick-off events are hosted in our Step ‘n Stride locations to get you registered for Step ‘n Stride 2024! Join us for our Kick-off at Helen Schuler Nature Centre!\nRegistration is required in advance\, please call us at 1-800-561-1911 or email clientservices@parkinsonassociation.ca. Please indicate the names of everyone attending!
URL:https://parkinsonassociation.ca/event/kick-off-lethbridge/
LOCATION:300 Indian Battle Road\, Helen Schuler Nature Centre
CATEGORIES:Parkinson Step 'n Stride
END:VEVENT
BEGIN:VEVENT
DTSTART;TZID=America/Edmonton:20240718T110000
DTEND;TZID=America/Edmonton:20240718T130000
DTSTAMP:20260423T024939
CREATED:20250306T223855Z
LAST-MODIFIED:20250306T223855Z
UID:10000017-1721300400-1721307600@parkinsonassociation.ca
SUMMARY:Kick-off Medicine Hat
DESCRIPTION:Kick start the summer at our Kick-off BBQ’s! Summer is the perfect time to have some fun and relax with our Parkinson’s community. Come out and enjoy food\, beverages\, and great conversations!\nOur kick-off events are hosted in our Step ‘n Stride locations to get you registered for Step ‘n Stride 2024! Join us for our Kick-off at Crossroads Church!\nRegistration is required in advance\, please call us at 1-800-561-1911 or email clientservices@parkinsonassociation.ca. Please indicate the names of everyone attending!
URL:https://parkinsonassociation.ca/event/kick-off-medicine-hat/
LOCATION:1340 22 St SE\, Crossroads Church
CATEGORIES:Parkinson Step 'n Stride
END:VEVENT
BEGIN:VEVENT
DTSTART;TZID=America/Edmonton:20240716T130000
DTEND;TZID=America/Edmonton:20240716T150000
DTSTAMP:20260423T024939
CREATED:20250306T223856Z
LAST-MODIFIED:20250306T223856Z
UID:10000019-1721134800-1721142000@parkinsonassociation.ca
SUMMARY:Kick-off Camrose
DESCRIPTION:Kick start the summer at our Kick-off BBQ’s! Summer is the perfect time to have some fun and relax with our Parkinson’s community. Come out and enjoy food\, beverages\, and great conversations!\nOur kick-off events are hosted in our Step ‘n Stride locations to get you registered for Step ‘n Stride 2024! Join us for our Kick- off at Grand Drive Park!\nRegistration is required in advance\, please call us at 1-800-561-1911 or email clientservices@parkinsonassociation.ca. Please indicate the names of everyone attending!
URL:https://parkinsonassociation.ca/event/kick-off-camrose/
CATEGORIES:Parkinson Step 'n Stride
END:VEVENT
BEGIN:VEVENT
DTSTART;TZID=America/Edmonton:20240711T160000
DTEND;TZID=America/Edmonton:20240711T180000
DTSTAMP:20260423T024939
CREATED:20250306T223955Z
LAST-MODIFIED:20250306T223955Z
UID:10000021-1720713600-1720720800@parkinsonassociation.ca
SUMMARY:Kick-off Edmonton
DESCRIPTION:Kick start the summer at our Kick-off BBQ’s! Summer is the perfect time to have some fun and relax with our Parkinson’s community. Come out and enjoy food\, beverages\, and great conversations!\nOur kick-off events are hosted in our Step ‘n Stride locations to get you registered for Step ‘n Stride 2024! Join us for our Kick- off at the Buchanan Centre (11209 86 Street)\nRegistration is required in advance\, please call us at 1-800-561-1911 or email clientservices@parkinsonassociation.ca. Please indicate the names of everyone attending!
URL:https://parkinsonassociation.ca/event/kick-off-edmonton/
CATEGORIES:Parkinson Step 'n Stride
END:VEVENT
BEGIN:VEVENT
DTSTART;TZID=America/Edmonton:20240703T113000
DTEND;TZID=America/Edmonton:20240703T133000
DTSTAMP:20260423T024939
CREATED:20250306T223856Z
LAST-MODIFIED:20250306T223856Z
UID:10000020-1720006200-1720013400@parkinsonassociation.ca
SUMMARY:Kick-off Grande Prairie
DESCRIPTION:Kick start the summer at our Kick-off BBQ’s! Summer is the perfect time to have some fun and relax with our Parkinson’s community. Come out and enjoy food\, beverages\, and great conversations!\nOur kick-off events are hosted in our Step ‘n Stride locations to get you registered for Step ‘n Stride 2024! Join us for our Kick- off at Muskoseepi Park\, Ernie Radbourne Pavilion!\nRegistration is required in advance\, please call us at 1-800-561-1911 or email clientservices@parkinsonassociation.ca. Please indicate the names of everyone attending!
URL:https://parkinsonassociation.ca/event/kick-off-grande-prairie/
CATEGORIES:Parkinson Step 'n Stride
END:VEVENT
BEGIN:VEVENT
DTSTART;TZID=America/Edmonton:20230713T110000
DTEND;TZID=America/Edmonton:20230713T130000
DTSTAMP:20260423T024939
CREATED:20250306T225055Z
LAST-MODIFIED:20250306T225055Z
UID:10000076-1689246000-1689253200@parkinsonassociation.ca
SUMMARY:Lloydminster Walk Kick-Off
DESCRIPTION:
URL:https://parkinsonassociation.ca/event/lloydminster-walk-kick-off/
CATEGORIES:Parkinson Step 'n Stride
END:VEVENT
END:VCALENDAR